BEGIN:VCALENDAR
VERSION:2.0
PRODID:-//Motorsport South Africa - ECPv6.15.18//NONSGML v1.0//EN
CALSCALE:GREGORIAN
METHOD:PUBLISH
X-ORIGINAL-URL:https://www.motorsport.co.za
X-WR-CALDESC:Events for Motorsport South Africa
REFRESH-INTERVAL;VALUE=DURATION:PT1H
X-Robots-Tag:noindex
X-PUBLISHED-TTL:PT1H
BEGIN:VTIMEZONE
TZID:Europe/Helsinki
BEGIN:DAYLIGHT
TZOFFSETFROM:+0200
TZOFFSETTO:+0300
TZNAME:EEST
DTSTART:20250330T010000
END:DAYLIGHT
BEGIN:STANDARD
TZOFFSETFROM:+0300
TZOFFSETTO:+0200
TZNAME:EET
DTSTART:20251026T010000
END:STANDARD
BEGIN:DAYLIGHT
TZOFFSETFROM:+0200
TZOFFSETTO:+0300
TZNAME:EEST
DTSTART:20260329T010000
END:DAYLIGHT
BEGIN:STANDARD
TZOFFSETFROM:+0300
TZOFFSETTO:+0200
TZNAME:EET
DTSTART:20261025T010000
END:STANDARD
BEGIN:DAYLIGHT
TZOFFSETFROM:+0200
TZOFFSETTO:+0300
TZNAME:EEST
DTSTART:20270328T010000
END:DAYLIGHT
BEGIN:STANDARD
TZOFFSETFROM:+0300
TZOFFSETTO:+0200
TZNAME:EET
DTSTART:20271031T010000
END:STANDARD
END:VTIMEZONE
BEGIN:VEVENT
DTSTART;TZID=Europe/Helsinki:20260418T080000
DTEND;TZID=Europe/Helsinki:20260418T170000
DTSTAMP:20260419T160418
CREATED:20260123T092211Z
LAST-MODIFIED:20260123T092211Z
UID:38004-1776499200-1776531600@www.motorsport.co.za
SUMMARY:WC REGIONAL MX & ZONE 7 CLUB MX CHAMPIONSHIP
DESCRIPTION:
URL:https://www.motorsport.co.za/event/wc-regional-mx-zone-7-club-mx-championship-25/
LOCATION:ZONE 7 MX TRACK..
CATEGORIES:MOTORCYCLES
ORGANIZER;CN="ZONE 7..":MAILTO:mxadmin@zone7.co.za
END:VEVENT
BEGIN:VEVENT
DTSTART;TZID=Europe/Helsinki:20260418T070000
DTEND;TZID=Europe/Helsinki:20260418T170000
DTSTAMP:20260419T160418
CREATED:20260105T083424Z
LAST-MODIFIED:20260419T094436Z
UID:37239-1776495600-1776531600@www.motorsport.co.za
SUMMARY:NR REGIONAL CROSS COUNTRY MCYCLES & QDS CLUB CHAMPIONSHIP\, RND 2
DESCRIPTION:
URL:https://www.motorsport.co.za/event/nr-regional-cross-country-mcycles-qds-club-championship-rnd-2/
LOCATION:LEKOA LODGE
CATEGORIES:MOTORCYCLES
ORGANIZER;CN="GXCC":MAILTO:admin@gxccracing.co.za
END:VEVENT
BEGIN:VEVENT
DTSTART;TZID=Europe/Helsinki:20260417T080000
DTEND;TZID=Europe/Helsinki:20260418T170000
DTSTAMP:20260419T160418
CREATED:20260105T083410Z
LAST-MODIFIED:20260105T083410Z
UID:37236-1776412800-1776531600@www.motorsport.co.za
SUMMARY:NATIONAL EXTREME FESTIVAL
DESCRIPTION:
URL:https://www.motorsport.co.za/event/national-extreme-festival-20/
LOCATION:REDSTAR RACEWAY
CATEGORIES:CARS,MOTORCYCLES
ORGANIZER;CN="RSR":MAILTO:qc@redstarraceway.co.za
END:VEVENT
BEGIN:VEVENT
DTSTART;TZID=Europe/Helsinki:20260411T080000
DTEND;TZID=Europe/Helsinki:20260411T170000
DTSTAMP:20260419T160418
CREATED:20260105T083409Z
LAST-MODIFIED:20260105T083409Z
UID:37233-1775894400-1775926800@www.motorsport.co.za
SUMMARY:KZNRRC CLUB CHAMPIONSHIP
DESCRIPTION:
URL:https://www.motorsport.co.za/event/kznrrc-club-championship-2/
LOCATION:DEZZI RACEWAY\, PORT SHEPSTONE
CATEGORIES:CARS,MOTORCYCLES
ORGANIZER;CN="KZNRRC":MAILTO:maritzburgtrack@gmail.com
END:VEVENT
BEGIN:VEVENT
DTSTART;TZID=Europe/Helsinki:20260410T080000
DTEND;TZID=Europe/Helsinki:20260411T170000
DTSTAMP:20260419T160418
CREATED:20260105T083354Z
LAST-MODIFIED:20260407T133913Z
UID:37229-1775808000-1775926800@www.motorsport.co.za
SUMMARY:FIVE HOURS OF ALDO SCRIBANTE
DESCRIPTION:
URL:https://www.motorsport.co.za/event/saes-4-hour-endurance-5/
LOCATION:ALDO SCRIBANTE RACEWAY
CATEGORIES:CARS,MOTORCYCLES
ORGANIZER;CN="SAES":MAILTO:liyema@saeseries.com
END:VEVENT
BEGIN:VEVENT
DTSTART;TZID=Europe/Helsinki:20260410T080000
DTEND;TZID=Europe/Helsinki:20260411T170000
DTSTAMP:20260419T160418
CREATED:20260105T083354Z
LAST-MODIFIED:20260105T083354Z
UID:37230-1775808000-1775926800@www.motorsport.co.za
SUMMARY:POWERSERIES
DESCRIPTION:
URL:https://www.motorsport.co.za/event/powerseries-23/
LOCATION:KILLARNEY INTERNATIONAL RACEWAY
CATEGORIES:CARS,MOTORCYCLES
ORGANIZER;CN="WPMC":MAILTO:joyh@wpmc.co.za
END:VEVENT
BEGIN:VEVENT
DTSTART;TZID=Europe/Helsinki:20260404T080000
DTEND;TZID=Europe/Helsinki:20260405T183000
DTSTAMP:20260419T160418
CREATED:20260401T095644Z
LAST-MODIFIED:20260401T095820Z
UID:39936-1775289600-1775413800@www.motorsport.co.za
SUMMARY:KIMBERLEY EASTER DRAGS
DESCRIPTION:
URL:https://www.motorsport.co.za/event/kimberley-easter-drags/
LOCATION:OLD BLOEMFONTEIN ROAD\, KIMBERLEY
CATEGORIES:CARS,MOTORCYCLES
ORGANIZER;CN="STREET OUTLAWS NC":MAILTO:streetoutlawsnc@gmail.com
END:VEVENT
BEGIN:VEVENT
DTSTART;TZID=Europe/Helsinki:20260404T080000
DTEND;TZID=Europe/Helsinki:20260404T170000
DTSTAMP:20260419T160418
CREATED:20260105T083354Z
LAST-MODIFIED:20260105T083354Z
UID:37228-1775289600-1775322000@www.motorsport.co.za
SUMMARY:ROVER MX CLUB CHAMPIONSHIP
DESCRIPTION:
URL:https://www.motorsport.co.za/event/rover-mx-club-championship-17/
LOCATION:ROVER MX TRACK
CATEGORIES:MOTORCYCLES
END:VEVENT
BEGIN:VEVENT
DTSTART;TZID=Europe/Helsinki:20260404T080000
DTEND;TZID=Europe/Helsinki:20260404T170000
DTSTAMP:20260419T160418
CREATED:20260105T083250Z
LAST-MODIFIED:20260105T083250Z
UID:37226-1775289600-1775322000@www.motorsport.co.za
SUMMARY:NATIONAL ENDURO CHAMPIONSHIP RND 2
DESCRIPTION:
URL:https://www.motorsport.co.za/event/national-enduro-championship-rnd-2/
LOCATION:GRABOUW
CATEGORIES:MOTORCYCLES
END:VEVENT
BEGIN:VEVENT
DTSTART;TZID=Europe/Helsinki:20260328T080000
DTEND;TZID=Europe/Helsinki:20260328T170000
DTSTAMP:20260419T160418
CREATED:20260220T065242Z
LAST-MODIFIED:20260220T065242Z
UID:38632-1774684800-1774717200@www.motorsport.co.za
SUMMARY:NORTHERN REGIONS / KZN INTERPROVINCIAL\, RND 4
DESCRIPTION:
URL:https://www.motorsport.co.za/event/northern-regions-kzn-interprovincial-rnd-4/
CATEGORIES:MOTORCYCLES
END:VEVENT
BEGIN:VEVENT
DTSTART;TZID=Europe/Helsinki:20260328T080000
DTEND;TZID=Europe/Helsinki:20260328T170000
DTSTAMP:20260419T160418
CREATED:20260105T083230Z
LAST-MODIFIED:20260105T083230Z
UID:37219-1774684800-1774717200@www.motorsport.co.za
SUMMARY:AMSC REGIONAL & CLUB SERIES
DESCRIPTION:
URL:https://www.motorsport.co.za/event/amsc-regional-club-series-21/
LOCATION:ALDO SCRIBANTE
CATEGORIES:CARS,MOTORCYCLES
ORGANIZER;CN="AMSC":MAILTO:sparkyb@vodamail.co.za
END:VEVENT
BEGIN:VEVENT
DTSTART;TZID=Europe/Helsinki:20260328T080000
DTEND;TZID=Europe/Helsinki:20260328T170000
DTSTAMP:20260419T160418
CREATED:20260105T083230Z
LAST-MODIFIED:20260105T083230Z
UID:37220-1774684800-1774717200@www.motorsport.co.za
SUMMARY:WC REGIONAL & WCOC CLUB CC MCYCLE CHAMPIONSHIP
DESCRIPTION:
URL:https://www.motorsport.co.za/event/wc-regional-wcoc-club-cc-mcycle-championship/
LOCATION:HEUNINGNESKLOOF\, CALEDON
CATEGORIES:MOTORCYCLES
ORGANIZER;CN="WCOC":MAILTO:TBA
END:VEVENT
BEGIN:VEVENT
DTSTART;TZID=Europe/Helsinki:20260328T080000
DTEND;TZID=Europe/Helsinki:20260328T170000
DTSTAMP:20260419T160418
CREATED:20260105T083230Z
LAST-MODIFIED:20260105T083230Z
UID:37221-1774684800-1774717200@www.motorsport.co.za
SUMMARY:TMSC DRAG RACING
DESCRIPTION:
URL:https://www.motorsport.co.za/event/tmsc-drag-racing-2/
LOCATION:TARLTON INTERNATIONAL RACEWAY
CATEGORIES:CARS,MOTORCYCLES
ORGANIZER;CN="TMSC":MAILTO:entries@tarltonraceway.co.za
END:VEVENT
BEGIN:VEVENT
DTSTART;TZID=Europe/Helsinki:20260328T080000
DTEND;TZID=Europe/Helsinki:20260328T170000
DTSTAMP:20260419T160418
CREATED:20260105T083140Z
LAST-MODIFIED:20260105T083140Z
UID:37216-1774684800-1774717200@www.motorsport.co.za
SUMMARY:NATIONAL MOTOCROSS CHAMPIONSHIP\, RND 2
DESCRIPTION:
URL:https://www.motorsport.co.za/event/national-motocross-championship-rnd-2/
LOCATION:THUNDERVALLEY
CATEGORIES:MOTORCYCLES
ORGANIZER;CN="MMC&amp%3BCC":MAILTO:maritzburgtrack@gmail.com
END:VEVENT
BEGIN:VEVENT
DTSTART;TZID=Europe/Helsinki:20260321T080000
DTEND;TZID=Europe/Helsinki:20260321T170000
DTSTAMP:20260419T160418
CREATED:20260105T083140Z
LAST-MODIFIED:20260105T083140Z
UID:37213-1774080000-1774112400@www.motorsport.co.za
SUMMARY:ECORC OFF-ROAD CAR\, MOTORCYCLE & QUAD CLUB CHAMPIONSHIP
DESCRIPTION:
URL:https://www.motorsport.co.za/event/ecorc-off-road-car-motorcycle-quad-club-championship-12/
LOCATION:JOHNNY’S PIT STOP\, UITENHAGE
CATEGORIES:CARS,MOTORCYCLES
ORGANIZER;CN="ECORC":MAILTO:gwatkins@ra.rockwell.com
END:VEVENT
BEGIN:VEVENT
DTSTART;TZID=Europe/Helsinki:20260321T080000
DTEND;TZID=Europe/Helsinki:20260321T170000
DTSTAMP:20260419T160418
CREATED:20260105T083139Z
LAST-MODIFIED:20260105T083139Z
UID:37212-1774080000-1774112400@www.motorsport.co.za
SUMMARY:WPMC SHORT CIRCUIT CLUB CHAMPIONSHIP
DESCRIPTION:
URL:https://www.motorsport.co.za/event/wpmc-short-circuit-club-championship-21/
LOCATION:KILLARNEY INTERNATIONAL RACEWAY
CATEGORIES:MOTORCYCLES
ORGANIZER;CN="WPMC/SC":MAILTO:megan.henning2015@gmail.com
END:VEVENT
BEGIN:VEVENT
DTSTART;TZID=Europe/Helsinki:20260314T080000
DTEND;TZID=Europe/Helsinki:20260314T170000
DTSTAMP:20260419T160418
CREATED:20260220T065140Z
LAST-MODIFIED:20260220T065140Z
UID:38630-1773475200-1773507600@www.motorsport.co.za
SUMMARY:NORTHERN REGIONS / KZN INTERPROVINCIAL\, RND 3
DESCRIPTION:
URL:https://www.motorsport.co.za/event/northern-regions-kzn-interprovincial-rnd-3/
CATEGORIES:MOTORCYCLES
END:VEVENT
BEGIN:VEVENT
DTSTART;TZID=Europe/Helsinki:20260314T080000
DTEND;TZID=Europe/Helsinki:20260314T170000
DTSTAMP:20260419T160418
CREATED:20260105T082739Z
LAST-MODIFIED:20260105T082739Z
UID:37205-1773475200-1773507600@www.motorsport.co.za
SUMMARY:BORDER MX CLUB CHAMPIONSHIP
DESCRIPTION:
URL:https://www.motorsport.co.za/event/border-mx-club-championship-32/
LOCATION:WETHERD MX TRACK
CATEGORIES:MOTORCYCLES
ORGANIZER;CN="BORDER MX":MAILTO:bordermx20@gmail.com
END:VEVENT
BEGIN:VEVENT
DTSTART;TZID=Europe/Helsinki:20260314T080000
DTEND;TZID=Europe/Helsinki:20260314T170000
DTSTAMP:20260419T160418
CREATED:20260105T082738Z
LAST-MODIFIED:20260220T065651Z
UID:37203-1773475200-1773507600@www.motorsport.co.za
SUMMARY:NATIONAL CROSS COUNTRY CHAMPIONSHIP\, RND 1
DESCRIPTION:
URL:https://www.motorsport.co.za/event/national-cross-country-championship-rnd-1/
LOCATION:RADIUM
CATEGORIES:MOTORCYCLES
ORGANIZER;CN="GXCC":MAILTO:admin@gxccracing.co.za
END:VEVENT
BEGIN:VEVENT
DTSTART;TZID=Europe/Helsinki:20260313T080000
DTEND;TZID=Europe/Helsinki:20260314T170000
DTSTAMP:20260419T160418
CREATED:20260105T082738Z
LAST-MODIFIED:20260105T082738Z
UID:37202-1773388800-1773507600@www.motorsport.co.za
SUMMARY:NATIONAL EXTREME FESTIVAL
DESCRIPTION:
URL:https://www.motorsport.co.za/event/national-extreme-festival-19/
LOCATION:KILLARNEY INTERNATIONAL RACEWAY
CATEGORIES:CARS,MOTORCYCLES
ORGANIZER;CN="WPMC":MAILTO:joyh@wpmc.co.za
END:VEVENT
BEGIN:VEVENT
DTSTART;TZID=Europe/Helsinki:20260308T080000
DTEND;TZID=Europe/Helsinki:20260308T170000
DTSTAMP:20260419T160418
CREATED:20260123T092114Z
LAST-MODIFIED:20260123T092115Z
UID:38002-1772956800-1772989200@www.motorsport.co.za
SUMMARY:WC REGIONAL MX & ZONE 7 CLUB MX CHAMPIONSHIP
DESCRIPTION:
URL:https://www.motorsport.co.za/event/wc-regional-mx-zone-7-club-mx-championship-24/
LOCATION:ZONE 7 MX TRACK..
CATEGORIES:MOTORCYCLES
ORGANIZER;CN="ZONE 7..":MAILTO:mxadmin@zone7.co.za
END:VEVENT
BEGIN:VEVENT
DTSTART;TZID=Europe/Helsinki:20260307T080000
DTEND;TZID=Europe/Helsinki:20260307T170000
DTSTAMP:20260419T160418
CREATED:20260105T082723Z
LAST-MODIFIED:20260105T082723Z
UID:37200-1772870400-1772902800@www.motorsport.co.za
SUMMARY:KZNRRC CLUB CHAMPIONSHIP
DESCRIPTION:
URL:https://www.motorsport.co.za/event/kznrrc-club-championship/
LOCATION:DEZZI RACEWAY\, PORT SHEPSTONE
CATEGORIES:CARS,MOTORCYCLES
ORGANIZER;CN="KZNRRC":MAILTO:maritzburgtrack@gmail.com
END:VEVENT
BEGIN:VEVENT
DTSTART;TZID=Europe/Helsinki:20260307T080000
DTEND;TZID=Europe/Helsinki:20260307T170000
DTSTAMP:20260419T160418
CREATED:20260105T082701Z
LAST-MODIFIED:20260105T082701Z
UID:37196-1772870400-1772902800@www.motorsport.co.za
SUMMARY:BMSC REGIONAL & CLUB RACE DAY
DESCRIPTION:
URL:https://www.motorsport.co.za/event/bmsc-regional-club-race-day-17/
LOCATION:EAST LONDON GRAND PRIX CIRCUIT
CATEGORIES:CARS,MOTORCYCLES
ORGANIZER;CN="BMSC":MAILTO:office@bmsc.co.za
END:VEVENT
BEGIN:VEVENT
DTSTART;TZID=Europe/Helsinki:20260307T080000
DTEND;TZID=Europe/Helsinki:20260307T170000
DTSTAMP:20260419T160418
CREATED:20260105T082700Z
LAST-MODIFIED:20260105T082700Z
UID:37194-1772870400-1772902800@www.motorsport.co.za
SUMMARY:KZN REGIONAL ENDURO CHAMPIONSHIP
DESCRIPTION:
URL:https://www.motorsport.co.za/event/kzn-regional-enduro-championship-4/
LOCATION:TBA………
CATEGORIES:MOTORCYCLES
ORGANIZER;CN="NEC":MAILTO:natalenduro@gmail.com
END:VEVENT
BEGIN:VEVENT
DTSTART;TZID=Europe/Helsinki:20260307T080000
DTEND;TZID=Europe/Helsinki:20260307T170000
DTSTAMP:20260419T160418
CREATED:20260105T082700Z
LAST-MODIFIED:20260105T082700Z
UID:37193-1772870400-1772902800@www.motorsport.co.za
SUMMARY:WC REGIONAL AND CSMX CLUB ENDURO CHAMPIONSHIP
DESCRIPTION:
URL:https://www.motorsport.co.za/event/wc-regional-and-csmx-club-enduro-championship/
LOCATION:MATROOSBERG STATION
CATEGORIES:MOTORCYCLES
END:VEVENT
BEGIN:VEVENT
DTSTART;TZID=Europe/Helsinki:20260306T080000
DTEND;TZID=Europe/Helsinki:20260307T170000
DTSTAMP:20260419T160418
CREATED:20260105T082700Z
LAST-MODIFIED:20260105T082700Z
UID:37192-1772784000-1772902800@www.motorsport.co.za
SUMMARY:POWERSERIES
DESCRIPTION:
URL:https://www.motorsport.co.za/event/powerseries-15/
LOCATION:KILLARNEY INTERNATIONAL RACEWAY
CATEGORIES:CARS,MOTORCYCLES
ORGANIZER;CN="WPMC":MAILTO:joyh@wpmc.co.za
END:VEVENT
BEGIN:VEVENT
DTSTART;TZID=Europe/Helsinki:20260228T080000
DTEND;TZID=Europe/Helsinki:20260228T170000
DTSTAMP:20260419T160418
CREATED:20260115T102600Z
LAST-MODIFIED:20260115T102601Z
UID:37745-1772265600-1772298000@www.motorsport.co.za
SUMMARY:MSA SHORT CIRCUIT GP SERIES
DESCRIPTION:
URL:https://www.motorsport.co.za/event/msa-short-circuit-gp-series/
LOCATION:VEREENIGING KART CIRCUIT…
CATEGORIES:MOTORCYCLES
ORGANIZER;CN="VKC...":MAILTO:delangedk@gmail.com
END:VEVENT
BEGIN:VEVENT
DTSTART;TZID=Europe/Helsinki:20260228T080000
DTEND;TZID=Europe/Helsinki:20260228T170000
DTSTAMP:20260419T160418
CREATED:20260105T082540Z
LAST-MODIFIED:20260105T082540Z
UID:37184-1772265600-1772298000@www.motorsport.co.za
SUMMARY:AMSC REGIONAL & CLUB SERIES
DESCRIPTION:
URL:https://www.motorsport.co.za/event/amsc-regional-club-series-20/
LOCATION:ALDO SCRIBANTE
CATEGORIES:CARS,MOTORCYCLES
ORGANIZER;CN="AMSC":MAILTO:sparkyb@vodamail.co.za
END:VEVENT
BEGIN:VEVENT
DTSTART;TZID=Europe/Helsinki:20260228T080000
DTEND;TZID=Europe/Helsinki:20260228T170000
DTSTAMP:20260419T160418
CREATED:20260105T082524Z
LAST-MODIFIED:20260105T082524Z
UID:37180-1772265600-1772298000@www.motorsport.co.za
SUMMARY:SA NATIONAL MOTOCROSS CHAMPIONSHIP\, RND 1
DESCRIPTION:
URL:https://www.motorsport.co.za/event/sa-national-motocross-championship-rnd-1-3/
LOCATION:TERRA TOPIA
CATEGORIES:MOTORCYCLES
END:VEVENT
BEGIN:VEVENT
DTSTART;TZID=Europe/Helsinki:20260228T080000
DTEND;TZID=Europe/Helsinki:20260228T170000
DTSTAMP:20260419T160418
CREATED:20260105T082524Z
LAST-MODIFIED:20260220T064310Z
UID:37181-1772265600-1772298000@www.motorsport.co.za
SUMMARY:KZN REGIONAL CROSS COUNTRY MCYCLE CHAMPIONSHIP
DESCRIPTION:
URL:https://www.motorsport.co.za/event/kzn-regional-cross-country-mcycle-championship/
LOCATION:NEW HANOVER
CATEGORIES:MOTORCYCLES
ORGANIZER;CN="KZNR":MAILTO:kznxcountry@gmail.com
END:VEVENT
END:VCALENDAR