BEGIN:VCALENDAR
VERSION:2.0
PRODID:-//Motorsport South Africa - ECPv6.15.18//NONSGML v1.0//EN
CALSCALE:GREGORIAN
METHOD:PUBLISH
X-ORIGINAL-URL:https://www.motorsport.co.za
X-WR-CALDESC:Events for Motorsport South Africa
REFRESH-INTERVAL;VALUE=DURATION:PT1H
X-Robots-Tag:noindex
X-PUBLISHED-TTL:PT1H
BEGIN:VTIMEZONE
TZID:Europe/Helsinki
BEGIN:DAYLIGHT
TZOFFSETFROM:+0200
TZOFFSETTO:+0300
TZNAME:EEST
DTSTART:20250330T010000
END:DAYLIGHT
BEGIN:STANDARD
TZOFFSETFROM:+0300
TZOFFSETTO:+0200
TZNAME:EET
DTSTART:20251026T010000
END:STANDARD
BEGIN:DAYLIGHT
TZOFFSETFROM:+0200
TZOFFSETTO:+0300
TZNAME:EEST
DTSTART:20260329T010000
END:DAYLIGHT
BEGIN:STANDARD
TZOFFSETFROM:+0300
TZOFFSETTO:+0200
TZNAME:EET
DTSTART:20261025T010000
END:STANDARD
BEGIN:DAYLIGHT
TZOFFSETFROM:+0200
TZOFFSETTO:+0300
TZNAME:EEST
DTSTART:20270328T010000
END:DAYLIGHT
BEGIN:STANDARD
TZOFFSETFROM:+0300
TZOFFSETTO:+0200
TZNAME:EET
DTSTART:20271031T010000
END:STANDARD
END:VTIMEZONE
BEGIN:VEVENT
DTSTART;TZID=Europe/Helsinki:20260228T070000
DTEND;TZID=Europe/Helsinki:20260228T170000
DTSTAMP:20260421T141845
CREATED:20260105T082540Z
LAST-MODIFIED:20260220T064013Z
UID:37182-1772262000-1772298000@www.motorsport.co.za
SUMMARY:KZN REGIONAL OFF-ROAD CARS CHAMPIONSHIP - RND 1 (ESTCOURT 200)
DESCRIPTION:
URL:https://www.motorsport.co.za/event/kzn-regional-off-road-cars-championship-rnd-1-4/
LOCATION:MILANSPRUIT FARM\, ESTCOURT
CATEGORIES:CARS,MOTORCYCLES
ORGANIZER;CN="NORMC":MAILTO:normc@sai.co.za
END:VEVENT
BEGIN:VEVENT
DTSTART;TZID=Europe/Helsinki:20260228T070000
DTEND;TZID=Europe/Helsinki:20260228T170000
DTSTAMP:20260421T141845
CREATED:20260220T065011Z
LAST-MODIFIED:20260220T065011Z
UID:38626-1772262000-1772298000@www.motorsport.co.za
SUMMARY:SA NATIONAL MOTOCROSS CHAMPIONSHIP\, RND 1 AND NR/KZN IPC\, RND 2
DESCRIPTION:
URL:https://www.motorsport.co.za/event/sa-national-motocross-championship-rnd-1-and-nr-kzn-ipc-rnd-2/
LOCATION:TERRA TOPIA..
CATEGORIES:MOTORCYCLES
ORGANIZER;CN="NRMX..":MAILTO:admin@gxccracing.co.za / northernregionsmx@gmail.com
END:VEVENT
BEGIN:VEVENT
DTSTART;TZID=Europe/Helsinki:20260228T080000
DTEND;TZID=Europe/Helsinki:20260228T170000
DTSTAMP:20260421T141845
CREATED:20260105T082524Z
LAST-MODIFIED:20260105T082524Z
UID:37180-1772265600-1772298000@www.motorsport.co.za
SUMMARY:SA NATIONAL MOTOCROSS CHAMPIONSHIP\, RND 1
DESCRIPTION:
URL:https://www.motorsport.co.za/event/sa-national-motocross-championship-rnd-1-3/
LOCATION:TERRA TOPIA
CATEGORIES:MOTORCYCLES
END:VEVENT
BEGIN:VEVENT
DTSTART;TZID=Europe/Helsinki:20260228T080000
DTEND;TZID=Europe/Helsinki:20260228T170000
DTSTAMP:20260421T141845
CREATED:20260105T082524Z
LAST-MODIFIED:20260220T064310Z
UID:37181-1772265600-1772298000@www.motorsport.co.za
SUMMARY:KZN REGIONAL CROSS COUNTRY MCYCLE CHAMPIONSHIP
DESCRIPTION:
URL:https://www.motorsport.co.za/event/kzn-regional-cross-country-mcycle-championship/
LOCATION:NEW HANOVER
CATEGORIES:MOTORCYCLES
ORGANIZER;CN="KZNR":MAILTO:kznxcountry@gmail.com
END:VEVENT
BEGIN:VEVENT
DTSTART;TZID=Europe/Helsinki:20260228T080000
DTEND;TZID=Europe/Helsinki:20260228T170000
DTSTAMP:20260421T141845
CREATED:20260105T082540Z
LAST-MODIFIED:20260105T082540Z
UID:37184-1772265600-1772298000@www.motorsport.co.za
SUMMARY:AMSC REGIONAL & CLUB SERIES
DESCRIPTION:
URL:https://www.motorsport.co.za/event/amsc-regional-club-series-20/
LOCATION:ALDO SCRIBANTE
CATEGORIES:CARS,MOTORCYCLES
ORGANIZER;CN="AMSC":MAILTO:sparkyb@vodamail.co.za
END:VEVENT
BEGIN:VEVENT
DTSTART;TZID=Europe/Helsinki:20260228T080000
DTEND;TZID=Europe/Helsinki:20260228T170000
DTSTAMP:20260421T141845
CREATED:20260115T102600Z
LAST-MODIFIED:20260115T102601Z
UID:37745-1772265600-1772298000@www.motorsport.co.za
SUMMARY:MSA SHORT CIRCUIT GP SERIES
DESCRIPTION:
URL:https://www.motorsport.co.za/event/msa-short-circuit-gp-series/
LOCATION:VEREENIGING KART CIRCUIT…
CATEGORIES:MOTORCYCLES
ORGANIZER;CN="VKC...":MAILTO:delangedk@gmail.com
END:VEVENT
END:VCALENDAR