BEGIN:VCALENDAR
VERSION:2.0
PRODID:-//Motorsport South Africa - ECPv6.15.18//NONSGML v1.0//EN
CALSCALE:GREGORIAN
METHOD:PUBLISH
X-WR-CALNAME:Motorsport South Africa
X-ORIGINAL-URL:https://www.motorsport.co.za
X-WR-CALDESC:Events for Motorsport South Africa
REFRESH-INTERVAL;VALUE=DURATION:PT1H
X-Robots-Tag:noindex
X-PUBLISHED-TTL:PT1H
BEGIN:VTIMEZONE
TZID:Europe/Helsinki
BEGIN:DAYLIGHT
TZOFFSETFROM:+0200
TZOFFSETTO:+0300
TZNAME:EEST
DTSTART:20250330T010000
END:DAYLIGHT
BEGIN:STANDARD
TZOFFSETFROM:+0300
TZOFFSETTO:+0200
TZNAME:EET
DTSTART:20251026T010000
END:STANDARD
BEGIN:DAYLIGHT
TZOFFSETFROM:+0200
TZOFFSETTO:+0300
TZNAME:EEST
DTSTART:20260329T010000
END:DAYLIGHT
BEGIN:STANDARD
TZOFFSETFROM:+0300
TZOFFSETTO:+0200
TZNAME:EET
DTSTART:20261025T010000
END:STANDARD
BEGIN:DAYLIGHT
TZOFFSETFROM:+0200
TZOFFSETTO:+0300
TZNAME:EEST
DTSTART:20270328T010000
END:DAYLIGHT
BEGIN:STANDARD
TZOFFSETFROM:+0300
TZOFFSETTO:+0200
TZNAME:EET
DTSTART:20271031T010000
END:STANDARD
END:VTIMEZONE
BEGIN:VEVENT
DTSTART;TZID=Europe/Helsinki:20260206T080000
DTEND;TZID=Europe/Helsinki:20260207T170000
DTSTAMP:20260421T154248
CREATED:20260105T082421Z
LAST-MODIFIED:20260105T082421Z
UID:37161-1770364800-1770483600@www.motorsport.co.za
SUMMARY:POWERSERIES
DESCRIPTION:
URL:https://www.motorsport.co.za/event/powerseries-13/
LOCATION:KILLARNEY INTERNATIONAL RACEWAY
CATEGORIES:CARS,MOTORCYCLES
ORGANIZER;CN="WPMC":MAILTO:joyh@wpmc.co.za
END:VEVENT
BEGIN:VEVENT
DTSTART;TZID=Europe/Helsinki:20260207T063000
DTEND;TZID=Europe/Helsinki:20260207T173000
DTSTAMP:20260421T154248
CREATED:20260204T150006Z
LAST-MODIFIED:20260204T150006Z
UID:38237-1770445800-1770485400@www.motorsport.co.za
SUMMARY:BORC MOTOCROSS CLUB CHAMPIONSHIP \, RND 1
DESCRIPTION:
URL:https://www.motorsport.co.za/event/borc-motocross-club-championship-rnd-1/
LOCATION:BLOEMFONTEIN MX TRACK…
CATEGORIES:MOTORCYCLES
ORGANIZER;CN="BORC..":MAILTO:ansie.friedrichs@gmail.com
END:VEVENT
BEGIN:VEVENT
DTSTART;TZID=Europe/Helsinki:20260207T080000
DTEND;TZID=Europe/Helsinki:20260207T170000
DTSTAMP:20260421T154248
CREATED:20260105T082427Z
LAST-MODIFIED:20260105T082427Z
UID:37163-1770451200-1770483600@www.motorsport.co.za
SUMMARY:NR  REGIONAL CROSS COUNTRY MCYCLE  & QDS CHAMPIONSHIP \, RND 1
DESCRIPTION:
URL:https://www.motorsport.co.za/event/nr-regional-cross-country-mcycle-qds-championship-rnd-1/
LOCATION:TBA.
CATEGORIES:MOTORCYCLES
ORGANIZER;CN="GXCC":MAILTO:admin@gxccracing.co.za
END:VEVENT
BEGIN:VEVENT
DTSTART;TZID=Europe/Helsinki:20260207T080000
DTEND;TZID=Europe/Helsinki:20260207T170000
DTSTAMP:20260421T154248
CREATED:20260105T082437Z
LAST-MODIFIED:20260204T142150Z
UID:37167-1770451200-1770483600@www.motorsport.co.za
SUMMARY:TMSC NORTHERN REGIONS REGIONAL DRAG RACING CHAMPIONSHIP WARMUP
DESCRIPTION:
URL:https://www.motorsport.co.za/event/tmsc-drag-racing/
LOCATION:TARLTON INTERNATIONAL RACEWAY
CATEGORIES:CARS,MOTORCYCLES
ORGANIZER;CN="TMSC":MAILTO:entries@tarltonraceway.co.za
END:VEVENT
BEGIN:VEVENT
DTSTART;TZID=Europe/Helsinki:20260207T080000
DTEND;TZID=Europe/Helsinki:20260207T170000
DTSTAMP:20260421T154248
CREATED:20260123T092004Z
LAST-MODIFIED:20260123T092005Z
UID:37998-1770451200-1770483600@www.motorsport.co.za
SUMMARY:WC REGIONAL MX & ZONE 7 CLUB MX CHAMPIONSHIP
DESCRIPTION:
URL:https://www.motorsport.co.za/event/wc-regional-mx-zone-7-club-mx-championship-23/
LOCATION:ZONE 7 MX TRACK..
CATEGORIES:MOTORCYCLES
ORGANIZER;CN="ZONE 7..":MAILTO:mxadmin@zone7.co.za
END:VEVENT
END:VCALENDAR