BEGIN:VCALENDAR
VERSION:2.0
PRODID:-//Motorsport South Africa - ECPv6.15.18//NONSGML v1.0//EN
CALSCALE:GREGORIAN
METHOD:PUBLISH
X-ORIGINAL-URL:https://www.motorsport.co.za
X-WR-CALDESC:Events for Motorsport South Africa
REFRESH-INTERVAL;VALUE=DURATION:PT1H
X-Robots-Tag:noindex
X-PUBLISHED-TTL:PT1H
BEGIN:VTIMEZONE
TZID:Europe/Helsinki
BEGIN:DAYLIGHT
TZOFFSETFROM:+0200
TZOFFSETTO:+0300
TZNAME:EEST
DTSTART:20250330T010000
END:DAYLIGHT
BEGIN:STANDARD
TZOFFSETFROM:+0300
TZOFFSETTO:+0200
TZNAME:EET
DTSTART:20251026T010000
END:STANDARD
BEGIN:DAYLIGHT
TZOFFSETFROM:+0200
TZOFFSETTO:+0300
TZNAME:EEST
DTSTART:20260329T010000
END:DAYLIGHT
BEGIN:STANDARD
TZOFFSETFROM:+0300
TZOFFSETTO:+0200
TZNAME:EET
DTSTART:20261025T010000
END:STANDARD
BEGIN:DAYLIGHT
TZOFFSETFROM:+0200
TZOFFSETTO:+0300
TZNAME:EEST
DTSTART:20270328T010000
END:DAYLIGHT
BEGIN:STANDARD
TZOFFSETFROM:+0300
TZOFFSETTO:+0200
TZNAME:EET
DTSTART:20271031T010000
END:STANDARD
END:VTIMEZONE
BEGIN:VEVENT
DTSTART;TZID=Europe/Helsinki:20260410T080000
DTEND;TZID=Europe/Helsinki:20260411T170000
DTSTAMP:20260421T112441
CREATED:20260105T083354Z
LAST-MODIFIED:20260407T133913Z
UID:37229-1775808000-1775926800@www.motorsport.co.za
SUMMARY:FIVE HOURS OF ALDO SCRIBANTE
DESCRIPTION:
URL:https://www.motorsport.co.za/event/saes-4-hour-endurance-5/
LOCATION:ALDO SCRIBANTE RACEWAY
CATEGORIES:CARS,MOTORCYCLES
ORGANIZER;CN="SAES":MAILTO:liyema@saeseries.com
END:VEVENT
BEGIN:VEVENT
DTSTART;TZID=Europe/Helsinki:20260410T080000
DTEND;TZID=Europe/Helsinki:20260411T170000
DTSTAMP:20260421T112441
CREATED:20260105T083354Z
LAST-MODIFIED:20260105T083354Z
UID:37230-1775808000-1775926800@www.motorsport.co.za
SUMMARY:POWERSERIES
DESCRIPTION:
URL:https://www.motorsport.co.za/event/powerseries-23/
LOCATION:KILLARNEY INTERNATIONAL RACEWAY
CATEGORIES:CARS,MOTORCYCLES
ORGANIZER;CN="WPMC":MAILTO:joyh@wpmc.co.za
END:VEVENT
BEGIN:VEVENT
DTSTART;TZID=Europe/Helsinki:20260411T080000
DTEND;TZID=Europe/Helsinki:20260411T170000
DTSTAMP:20260421T112441
CREATED:20260105T083409Z
LAST-MODIFIED:20260105T083409Z
UID:37232-1775894400-1775926800@www.motorsport.co.za
SUMMARY:WC REGIONAL & OUDTSHOORN MOTOR CLUB OVAL DIRT CHAMPIONSHIPS
DESCRIPTION:
URL:https://www.motorsport.co.za/event/wc-regional-oudtshoorn-motor-club-oval-dirt-championships-2/
LOCATION:ARNOLD DE JAGER OVAL TRACK\, OUDTSHOORN
CATEGORIES:CARS
ORGANIZER;CN="DO4SA-OUDTS":MAILTO:secretaryodnmc@gmail.com
END:VEVENT
BEGIN:VEVENT
DTSTART;TZID=Europe/Helsinki:20260411T080000
DTEND;TZID=Europe/Helsinki:20260411T170000
DTSTAMP:20260421T112441
CREATED:20260105T083409Z
LAST-MODIFIED:20260105T083409Z
UID:37233-1775894400-1775926800@www.motorsport.co.za
SUMMARY:KZNRRC CLUB CHAMPIONSHIP
DESCRIPTION:
URL:https://www.motorsport.co.za/event/kznrrc-club-championship-2/
LOCATION:DEZZI RACEWAY\, PORT SHEPSTONE
CATEGORIES:CARS,MOTORCYCLES
ORGANIZER;CN="KZNRRC":MAILTO:maritzburgtrack@gmail.com
END:VEVENT
BEGIN:VEVENT
DTSTART;TZID=Europe/Helsinki:20260411T080000
DTEND;TZID=Europe/Helsinki:20260411T170000
DTSTAMP:20260421T112441
CREATED:20260105T083409Z
LAST-MODIFIED:20260105T083409Z
UID:37234-1775894400-1775926800@www.motorsport.co.za
SUMMARY:GAUTENG SUPREME CHAMPIONSHIP RND 3 - NINJA MIDGETS\, 1660 SALOONS AND 2.1 MODIFIEDS
DESCRIPTION:
URL:https://www.motorsport.co.za/event/gauteng-supreme-championship-rnd-3-ninja-midgets-1660-saloons-and-2-1-modifieds/
LOCATION:ROCK RACEWAY\, 18 MAIN REEF RD\, BRAKPAN
CATEGORIES:CARS
ORGANIZER;CN="SSP-ROCK RW":MAILTO:shane@controlvalve.co.za
END:VEVENT
BEGIN:VEVENT
DTSTART;TZID=Europe/Helsinki:20260411T100000
DTEND;TZID=Europe/Helsinki:20260411T150000
DTSTAMP:20260421T112441
CREATED:20260226T093331Z
LAST-MODIFIED:20260409T133848Z
UID:38798-1775901600-1775919600@www.motorsport.co.za
SUMMARY:LIONS MOSSEL BAY BLIND NAVIGATORS RALLY
DESCRIPTION:
URL:https://www.motorsport.co.za/event/lions-mossel-bay-blind-navigators-rally-2/
LOCATION:MOSSEL BAY
CATEGORIES:CARS
ORGANIZER;CN="SARRA":MAILTO:sturgess@iafrica.com
END:VEVENT
END:VCALENDAR